BEGIN:VCALENDAR
VERSION:2.0
PRODID:-//Intand Corporation//Tandem//EN
METHOD:PUBLISH
BEGIN:VEVENT
DTSTAMP:20260421T035439Z
DTSTART;VALUE=DATE:20260607
DTEND;VALUE=DATE:20260608
TRANSP:TRANSPARENT
PRIORITY:0
SUMMARY:THE MOST HOLY BODY & BLOOD OF CHRIST
LOCATION:Church
DESCRIPTION:Groups:\nSchool ()\nSRS Mass Schedule ()\nPSR ()\nMiddle Schoo
 l Ministry ()\nHigh School Ministry ()\nChurch ()\n\nLocation:\nChurch\n\n
URL;VALUE=URI:https://saintraphael.tandem.co/index.php?type=view&action=ev
 ent&id=24179
CREATED:20250327T153141Z
LAST-MODIFIED:20250327T153141Z
UID:event-24179-saintraphael@intand.com
END:VEVENT
END:VCALENDAR
