BEGIN:VCALENDAR
VERSION:2.0
PRODID:-//Intand Corporation//Tandem//EN
METHOD:PUBLISH
BEGIN:VEVENT
DTSTAMP:20260421T035255Z
DTSTART:20260526T130000Z
DTEND:20260526T190000Z
TRANSP:TRANSPARENT
PRIORITY:0
SUMMARY:Grade 1: Field Trip
LOCATION:Off-Campus
DESCRIPTION:Groups:\nSchool ()\n\nLocation:\nOff-Campus\n\n
URL;VALUE=URI:https://saintraphael.tandem.co/index.php?type=view&action=ev
 ent&id=24318
CREATED:20250327T195147Z
LAST-MODIFIED:20250327T195147Z
UID:event-24318-saintraphael@intand.com
END:VEVENT
END:VCALENDAR
