BEGIN:VCALENDAR
VERSION:2.0
PRODID:-//Intand Corporation//Tandem//EN
METHOD:PUBLISH
BEGIN:VEVENT
DTSTAMP:20260421T035440Z
DTSTART:20260528T192000Z
DTEND:20260528T200000Z
TRANSP:TRANSPARENT
PRIORITY:0
SUMMARY:Raiders Club - PM
LOCATION:PAC
DESCRIPTION:Groups:\nSchool ()\nChurch ()\n\nLocation:\nPAC\n\nContacts:\n
 Raiders  Club\n\n
URL;VALUE=URI:https://saintraphael.tandem.co/index.php?type=view&action=ev
 ent&id=25621
CREATED:20250411T153825Z
LAST-MODIFIED:20250411T153825Z
UID:event-25621-saintraphael@intand.com
END:VEVENT
END:VCALENDAR
